BEGIN:VCALENDAR
VERSION:2.0
PRODID:DPCALENDAR
CALSCALE:GREGORIAN
BEGIN:VTIMEZONE
TZID:Europe/Berlin
X-MICROSOFT-CDO-TZID:4
BEGIN:STANDARD
DTSTART:20251026T010000
TZOFFSETFROM:+0200
TZOFFSETTO:+0100
TZNAME:CET
END:STANDARD
BEGIN:STANDARD
DTSTART:20261025T010000
TZOFFSETFROM:+0200
TZOFFSETTO:+0100
TZNAME:CET
END:STANDARD
BEGIN:DAYLIGHT
DTSTART:20260329T010000
TZOFFSETFROM:+0100
TZOFFSETTO:+0200
TZNAME:CEST
END:DAYLIGHT
END:VTIMEZONE
X-WR-TIMEZONE:Europe/Berlin
BEGIN:VEVENT
DTSTART;TZID=Europe/Berlin:20260202T183000
DTEND;TZID=Europe/Berlin:20260202T193000
UID:6F5D6DB5-23E3-439C-9603-C955C7E72D02
SUMMARY:Stadtratsitzung
CREATED:20260113T084042Z
DTSTAMP:20260113T084042Z
URL:https://www.stadt-scheinfeld.de/veranstaltungen/veranstaltungsuebersicht/stadtratsitzung-2
LAST-MODIFIED:20260126T121514Z
SEQUENCE:1136072
LOCATION:Hauptstraße 1\, 91443 Scheinfeld\, Bayern
GEO:49.66553000;10.46249000
X-LOCATION-DISPLAYNAME:Bürgersaal
X-ACCESS:1
X-HITS:182
X-COLOR:780f2d
X-SHOW-END-TIME:0
END:VEVENT
BEGIN:VEVENT
DTSTART;TZID=Europe/Berlin:20260223T183000
DTEND;TZID=Europe/Berlin:20260223T193000
UID:BAEB6A5E-7AD1-46CC-8598-6CE658E88E8B
SUMMARY:Stadtratsitzung
CREATED:20260113T083836Z
DTSTAMP:20260113T083836Z
URL:https://www.stadt-scheinfeld.de/veranstaltungen/veranstaltungsuebersicht/stadtratsitzung
LAST-MODIFIED:20260113T093057Z
SEQUENCE:3141
LOCATION:Hauptstraße 1\, 91443 Scheinfeld\, Bayern
GEO:49.66553000;10.46249000
X-LOCATION-DISPLAYNAME:Bürgersaal
X-ACCESS:1
X-HITS:181
X-COLOR:780f2d
X-SHOW-END-TIME:0
END:VEVENT
BEGIN:VEVENT
DTSTART;VALUE=DATE:20260308
DTEND;VALUE=DATE:20260309
UID:57A1253A-EA7C-4A94-A44B-F9905FCA3FF5
SUMMARY:Kommunalwahlen in Bayern
CREATED:20251203T113614Z
DTSTAMP:20251203T113614Z
URL:https://www.stadt-scheinfeld.de/veranstaltungen/veranstaltungsuebersicht/kommunalwahlen-in-bayern
LAST-MODIFIED:20251203T113632Z
SEQUENCE:18
LOCATION:Hauptstraße 3\, 91443 Scheinfeld\, Bayern
GEO:49.66546840;10.46297810
X-LOCATION-DISPLAYNAME:Rathaus Scheinfeld
X-ACCESS:1
X-HITS:358
X-COLOR:780f2d
X-SHOW-END-TIME:0
END:VEVENT
BEGIN:VEVENT
DTSTART;TZID=Europe/Berlin:20260427T183000
DTEND;TZID=Europe/Berlin:20260427T193000
UID:59A7F4AE-1AAD-42A8-89FD-16853D18DABF
SUMMARY:Stadtratssitzung
CREATED:20260422T073751Z
DTSTAMP:20260422T073751Z
URL:https://www.stadt-scheinfeld.de/veranstaltungen/veranstaltungsuebersicht/stadtratssitzung
DESCRIPTION:Verabschiedung der am 1. Mai 2026 ausscheidenden Rätinnen und Räte
X-ALT-DESC;FMTTYPE=text/html:<p>Verabschiedung der am 1. Mai 2026 ausscheidenden Rätinnen und Räte</p>
LAST-MODIFIED:20260422T073751Z
SEQUENCE:0
X-ACCESS:1
X-HITS:3
X-COLOR:780f2d
X-SHOW-END-TIME:0
END:VEVENT
END:VCALENDAR