BEGIN:VCALENDAR
VERSION:2.0
PRODID:DPCALENDAR
CALSCALE:GREGORIAN
BEGIN:VTIMEZONE
TZID:Europe/Berlin
X-MICROSOFT-CDO-TZID:4
BEGIN:STANDARD
DTSTART:20251026T010000
TZOFFSETFROM:+0200
TZOFFSETTO:+0100
TZNAME:CET
END:STANDARD
BEGIN:STANDARD
DTSTART:20261025T010000
TZOFFSETFROM:+0200
TZOFFSETTO:+0100
TZNAME:CET
END:STANDARD
BEGIN:DAYLIGHT
DTSTART:20260329T010000
TZOFFSETFROM:+0100
TZOFFSETTO:+0200
TZNAME:CEST
END:DAYLIGHT
END:VTIMEZONE
X-WR-TIMEZONE:Europe/Berlin
BEGIN:VEVENT
DTSTART;TZID=Europe/Berlin:20260423T183000
DTEND;TZID=Europe/Berlin:20260423T200000
UID:7E62F1E1-5ED4-453D-83E2-20FB72DEFF12
SUMMARY:Druckgrafik - Arbeiten mit Hochdruck
CREATED:20260421T104452Z
DTSTAMP:20260421T104452Z
URL:https://www.stadt-scheinfeld.de/veranstaltungen/veranstaltungsuebersicht/druckgrafik-arbeiten-mit-hochdruck
DESCRIPTION:mit Heike Hofmann, in Frankenfeld 6 (ehem. Wirtshaus) / Donnerstags 2x\NInfo und Anmeldung unter Tel. 09161/922602 oder www.vhs-nea-bw.de\N 
X-ALT-DESC;FMTTYPE=text/html:<p>mit Heike Hofmann, in Frankenfeld 6 (ehem. Wirtshaus) / Donnerstags 2x</p><p>Info und Anmeldung unter Tel. 09161/922602 oder <a href="https://www.vhs-nea-bw.de">www.vhs-nea-bw.de</a></p><p> </p>
LAST-MODIFIED:20260421T121209Z
SEQUENCE:5237
X-ACCESS:1
X-HITS:31
X-COLOR:4d7da7
X-SHOW-END-TIME:1
END:VEVENT
BEGIN:VEVENT
DTSTART;TZID=Europe/Berlin:20260506T151500
DTEND;TZID=Europe/Berlin:20260506T161500
UID:3769C045-6D85-489F-857C-53549C4A3897
SUMMARY:Kinder-Kreativtreff, Thema Mutter-/Vatertag
CREATED:20260421T104933Z
DTSTAMP:20260421T104933Z
URL:https://www.stadt-scheinfeld.de/veranstaltungen/veranstaltungsuebersicht/kinder-kreativtreff-thema-mutter-vatertag
DESCRIPTION:mit Sabrina Ossadnik, Scheinfeld, Gemeinschaftsraum der Diakonie\NKurs 1: 15.15 - 16.15 Uhr\NKurs 2: 16.45 - 17.45 Uhr\NInfo und Anmeldung unter Tel. 09161/922602 oder www.vhs-nea-bw.de\N \N 
X-ALT-DESC;FMTTYPE=text/html:<p>mit Sabrina Ossadnik, Scheinfeld, Gemeinschaftsraum der Diakonie</p><p>Kurs 1: 15.15 - 16.15 Uhr</p><p>Kurs 2: 16.45 - 17.45 Uhr</p><p>Info und Anmeldung unter Tel. 09161/922602 oder <a href="https://www.vhs-nea-bw.de">www.vhs-nea-bw.de</a></p><p> </p><p> </p>
LAST-MODIFIED:20260421T121222Z
SEQUENCE:4969
X-ACCESS:1
X-HITS:2
X-COLOR:4d7da7
X-SHOW-END-TIME:0
END:VEVENT
BEGIN:VEVENT
DTSTART;TZID=Europe/Berlin:20260520T163000
DTEND;TZID=Europe/Berlin:20260520T180000
UID:F4B1C2D2-0C1A-42C4-84DF-D50D6EE19233
SUMMARY:Das Onlineportal NeaWiS kennenlernen und ausprobieren
CREATED:20260421T105303Z
DTSTAMP:20260421T105303Z
URL:https://www.stadt-scheinfeld.de/veranstaltungen/veranstaltungsuebersicht/das-onlineportal-neawis-kennenlernen-und-ausprobieren
DESCRIPTION:mit Heike Kühl, Scheinfeld, Gymnasium B003
X-ALT-DESC;FMTTYPE=text/html:<p>mit Heike Kühl, Scheinfeld, Gymnasium B003</p>
LAST-MODIFIED:20260421T121239Z
SEQUENCE:4776
LOCATION:Landwehrstraße 11\, 91443 Scheinfeld\, Bayern
GEO:49.66915000;10.46543000
X-LOCATION-DISPLAYNAME:Gymnasium Scheinfeld
X-ACCESS:1
X-HITS:1
X-COLOR:4d7da7
X-SHOW-END-TIME:1
END:VEVENT
BEGIN:VEVENT
DTSTART;TZID=Europe/Berlin:20260608T193000
DTEND;TZID=Europe/Berlin:20260608T210000
UID:78C1B6E7-32D6-4D94-A965-B778E5D22C0D
SUMMARY:Hatha-Yoga, Yin und Yang, für einen gesunden Rücken
CREATED:20260421T105634Z
DTSTAMP:20260421T105634Z
URL:https://www.stadt-scheinfeld.de/veranstaltungen/veranstaltungsuebersicht/hatha-yoga-yin-und-yang-fuer-einen-gesunden-ruecken
DESCRIPTION:mit Rahel Habermeier-Steiger, Scheinfeld, Fitness-Oase 2000, Aerobic-Raum / 5x\NInfo und Anmeldung unter Tel. 09161/922602 oder www.vhs-nea-bw.de
X-ALT-DESC;FMTTYPE=text/html:<p>mit Rahel Habermeier-Steiger, Scheinfeld, Fitness-Oase 2000, Aerobic-Raum / 5x</p><p>Info und Anmeldung unter Tel. 09161/922602 oder <a href="https://www.vhs-nea-bw.de">www.vhs-nea-bw.de</a></p>
LAST-MODIFIED:20260421T121255Z
SEQUENCE:4581
LOCATION:Kirchstraße 80\, 91443 Scheinfeld\, Bayern\, Deutschland
GEO:49.67328000;10.45766000
X-LOCATION-DISPLAYNAME:Fitness Oase 2000 Scheinfeld
X-ACCESS:1
X-HITS:0
X-COLOR:4d7da7
X-SHOW-END-TIME:1
END:VEVENT
BEGIN:VEVENT
DTSTART;TZID=Europe/Berlin:20260616T150000
DTEND;TZID=Europe/Berlin:20260616T161500
UID:4F8F09F7-467E-4D47-996B-3D7CC038E909
SUMMARY:Kinder-Kreativtreff, Thema Fahrzeuge
CREATED:20260421T110009Z
DTSTAMP:20260421T110009Z
URL:https://www.stadt-scheinfeld.de/veranstaltungen/veranstaltungsuebersicht/kinder-kreativtreff-thema-fahrzeuge
DESCRIPTION:mit Sabrina Ossadnik, Scheinfeld, Gemeinschaftsraum der Diakonie, jeweils 5,00 € Materialkosten\NKurs 1: 15.15 - 16.15 Uhr\NKurs 2: 16.45 - 17.45 Uhr\NInfo und Anmeldung unter Tel. 09161/922602 oder www.vhs-nea-bw.de\N \N 
X-ALT-DESC;FMTTYPE=text/html:<p>mit Sabrina Ossadnik, Scheinfeld, Gemeinschaftsraum der Diakonie, jeweils 5,00 € Materialkosten</p><p>Kurs 1: 15.15 - 16.15 Uhr</p><p>Kurs 2: 16.45 - 17.45 Uhr</p><p>Info und Anmeldung unter Tel. 09161/922602 oder <a href="https://www.vhs-nea-bw.de">www.vhs-nea-bw.de</a></p><p> </p><p> </p>
LAST-MODIFIED:20260421T121308Z
SEQUENCE:4379
X-ACCESS:1
X-HITS:0
X-COLOR:4d7da7
X-SHOW-END-TIME:1
END:VEVENT
BEGIN:VEVENT
DTSTART;TZID=Europe/Berlin:20260708T151500
DTEND;TZID=Europe/Berlin:20260708T161500
UID:4B6495E3-0AB0-41B1-8403-B31E620C03B3
SUMMARY:Kinder-Kreativtreff, Thema Wasser
CREATED:20260421T110252Z
DTSTAMP:20260421T110252Z
URL:https://www.stadt-scheinfeld.de/veranstaltungen/veranstaltungsuebersicht/kinder-kreativtreff-thema-wasser
DESCRIPTION:mit Sabrina Ossadnik, Scheinfeld, Gemeinschaftsraum der Diakonie\NKurs 1: 15.15 - 16.15 Uhr\NKurs 2: 16.45 - 17.45 Uhr\NInfo und Anmeldung unter Tel. 09161/922602 oder www.vhs-nea-bw.de
X-ALT-DESC;FMTTYPE=text/html:<p>mit Sabrina Ossadnik, Scheinfeld, Gemeinschaftsraum der Diakonie</p><p>Kurs 1: 15.15 - 16.15 Uhr</p><p>Kurs 2: 16.45 - 17.45 Uhr</p><p>Info und Anmeldung unter Tel. 09161/922602 oder <a href="https://www.vhs-nea-bw.de">www.vhs-nea-bw.de</a></p>
LAST-MODIFIED:20260421T110252Z
SEQUENCE:0
X-ACCESS:1
X-HITS:0
X-COLOR:4d7da7
X-SHOW-END-TIME:1
END:VEVENT
END:VCALENDAR